BEGIN:VCALENDAR
VERSION:2.0
PRODID:-//hacksw/handcal//NONSGML v1.0//EN
BEGIN:VEVENT
DTSTAMP:20260422T115000Z
DTSTART:20260422T115000Z
DTEND:20260422T115000Z
LOCATION:Betriebshof der Halleschen Verkehrs-AG , Freiimfelder Straße 74, Halle (Saale), 06112, Deutschland
SUMMARY:Senioren Union: Besuch Betriebshof der Halleschen Verkehrs-AG
END:VEVENT
BEGIN:VEVENT
DTSTAMP:20260423T160000Z
DTSTART:20260423T160000Z
DTEND:20260423T160000Z
LOCATION:Gaststätte „Am Rosengarten", Theodor- Neubauer-Str. 33a, Halle (Saale), 06130, Deutschland
SUMMARY:Save the date: Stammtisch Ortsverband Halle-Süd
END:VEVENT
BEGIN:VEVENT
DTSTAMP:20260507T123000Z
DTSTART:20260507T123000Z
DTEND:20260507T123000Z
LOCATION:Treffpunkt: Gaststätte Waldkater, Waldkater 1, Halle (Saale), 06120, Deutschland
SUMMARY:Senioren Union: Gesundheitsspaziergang
END:VEVENT
BEGIN:VEVENT
DTSTAMP:20260528T160000Z
DTSTART:20260528T160000Z
DTEND:20260528T160000Z
LOCATION:Gaststätte „Am Rosengarten", Theodor- Neubauer-Str. 33a, Halle (Saale), 06130, Deutschland
SUMMARY:Save the date: Stammtisch Ortsverband Halle-Süd
END:VEVENT
BEGIN:VEVENT
DTSTAMP:20260604T123000Z
DTSTART:20260604T123000Z
DTEND:20260604T123000Z
LOCATION:Treffpunkt: Gaststätte Waldkater, Waldkater 1, Halle (Saale), 06120, Deutschland
SUMMARY:Senioren Union: Gesundheitsspaziergang
END:VEVENT
BEGIN:VEVENT
DTSTAMP:20260626T160000Z
DTSTART:20260626T160000Z
DTEND:20260626T160000Z
LOCATION:Gaststätte „Am Rosengarten", Theodor- Neubauer-Str. 33a, Halle (Saale), 06130, Deutschland
SUMMARY:Save the date: Stammtisch Ortsverband Halle-Süd
END:VEVENT
END:VCALENDAR
